BEGIN:VCALENDAR
VERSION:2.0
PRODID:-//Canada Employment and Immigration Union - ECPv6.15.20//NONSGML v1.0//EN
CALSCALE:GREGORIAN
METHOD:PUBLISH
X-WR-CALNAME:Canada Employment and Immigration Union
X-ORIGINAL-URL:https://seic-ceiu.ca
X-WR-CALDESC:Évènements pour Canada Employment and Immigration Union
REFRESH-INTERVAL;VALUE=DURATION:PT1H
X-Robots-Tag:noindex
X-PUBLISHED-TTL:PT1H
BEGIN:VTIMEZONE
TZID:America/Toronto
BEGIN:DAYLIGHT
TZOFFSETFROM:-0500
TZOFFSETTO:-0400
TZNAME:EDT
DTSTART:20250309T070000
END:DAYLIGHT
BEGIN:STANDARD
TZOFFSETFROM:-0400
TZOFFSETTO:-0500
TZNAME:EST
DTSTART:20251102T060000
END:STANDARD
BEGIN:DAYLIGHT
TZOFFSETFROM:-0500
TZOFFSETTO:-0400
TZNAME:EDT
DTSTART:20260308T070000
END:DAYLIGHT
BEGIN:STANDARD
TZOFFSETFROM:-0400
TZOFFSETTO:-0500
TZNAME:EST
DTSTART:20261101T060000
END:STANDARD
BEGIN:DAYLIGHT
TZOFFSETFROM:-0500
TZOFFSETTO:-0400
TZNAME:EDT
DTSTART:20270314T070000
END:DAYLIGHT
BEGIN:STANDARD
TZOFFSETFROM:-0400
TZOFFSETTO:-0500
TZNAME:EST
DTSTART:20271107T060000
END:STANDARD
BEGIN:DAYLIGHT
TZOFFSETFROM:-0500
TZOFFSETTO:-0400
TZNAME:EDT
DTSTART:20280312T070000
END:DAYLIGHT
BEGIN:STANDARD
TZOFFSETFROM:-0400
TZOFFSETTO:-0500
TZNAME:EST
DTSTART:20281105T060000
END:STANDARD
BEGIN:DAYLIGHT
TZOFFSETFROM:-0500
TZOFFSETTO:-0400
TZNAME:EDT
DTSTART:20290311T070000
END:DAYLIGHT
BEGIN:STANDARD
TZOFFSETFROM:-0400
TZOFFSETTO:-0500
TZNAME:EST
DTSTART:20291104T060000
END:STANDARD
BEGIN:DAYLIGHT
TZOFFSETFROM:-0500
TZOFFSETTO:-0400
TZNAME:EDT
DTSTART:20300310T070000
END:DAYLIGHT
BEGIN:STANDARD
TZOFFSETFROM:-0400
TZOFFSETTO:-0500
TZNAME:EST
DTSTART:20301103T060000
END:STANDARD
BEGIN:DAYLIGHT
TZOFFSETFROM:-0500
TZOFFSETTO:-0400
TZNAME:EDT
DTSTART:20310309T070000
END:DAYLIGHT
BEGIN:STANDARD
TZOFFSETFROM:-0400
TZOFFSETTO:-0500
TZNAME:EST
DTSTART:20311102T060000
END:STANDARD
END:VTIMEZONE
BEGIN:VEVENT
DTSTART;TZID=America/Toronto:20261206T000000
DTEND;TZID=America/Toronto:20261206T235959
DTSTAMP:20260421T145916
CREATED:20260305T232706Z
LAST-MODIFIED:20260305T232751Z
UID:10000343-1796515200-1796601599@seic-ceiu.ca
SUMMARY:Journée nationale de commémoration et d’action contre la violence faite aux femmes
DESCRIPTION:
URL:https://seic-ceiu.ca/event/journee-nationale-de-commemoration-et-daction-contre-la-violence-faite-aux-femmes/2026-12-06/
CATEGORIES:Date significative
ATTACH;FMTTYPE=image/png:https://seic-ceiu.ca/wp-content/uploads/2025/12/women-1.png
END:VEVENT
BEGIN:VEVENT
DTSTART;TZID=America/Toronto:20271206T000000
DTEND;TZID=America/Toronto:20271206T235959
DTSTAMP:20260421T145916
CREATED:20260305T232706Z
LAST-MODIFIED:20260305T232751Z
UID:10000344-1828051200-1828137599@seic-ceiu.ca
SUMMARY:Journée nationale de commémoration et d’action contre la violence faite aux femmes
DESCRIPTION:
URL:https://seic-ceiu.ca/event/journee-nationale-de-commemoration-et-daction-contre-la-violence-faite-aux-femmes/2027-12-06/
CATEGORIES:Date significative
ATTACH;FMTTYPE=image/png:https://seic-ceiu.ca/wp-content/uploads/2025/12/women-1.png
END:VEVENT
BEGIN:VEVENT
DTSTART;TZID=America/Toronto:20281206T000000
DTEND;TZID=America/Toronto:20281206T235959
DTSTAMP:20260421T145916
CREATED:20260305T232706Z
LAST-MODIFIED:20260305T232751Z
UID:10000345-1859673600-1859759999@seic-ceiu.ca
SUMMARY:Journée nationale de commémoration et d’action contre la violence faite aux femmes
DESCRIPTION:
URL:https://seic-ceiu.ca/event/journee-nationale-de-commemoration-et-daction-contre-la-violence-faite-aux-femmes/2028-12-06/
CATEGORIES:Date significative
ATTACH;FMTTYPE=image/png:https://seic-ceiu.ca/wp-content/uploads/2025/12/women-1.png
END:VEVENT
BEGIN:VEVENT
DTSTART;TZID=America/Toronto:20291206T000000
DTEND;TZID=America/Toronto:20291206T235959
DTSTAMP:20260421T145916
CREATED:20260305T232706Z
LAST-MODIFIED:20260305T232751Z
UID:10000346-1891209600-1891295999@seic-ceiu.ca
SUMMARY:Journée nationale de commémoration et d’action contre la violence faite aux femmes
DESCRIPTION:
URL:https://seic-ceiu.ca/event/journee-nationale-de-commemoration-et-daction-contre-la-violence-faite-aux-femmes/2029-12-06/
CATEGORIES:Date significative
ATTACH;FMTTYPE=image/png:https://seic-ceiu.ca/wp-content/uploads/2025/12/women-1.png
END:VEVENT
BEGIN:VEVENT
DTSTART;TZID=America/Toronto:20301206T000000
DTEND;TZID=America/Toronto:20301206T235959
DTSTAMP:20260421T145916
CREATED:20260305T232706Z
LAST-MODIFIED:20260305T232751Z
UID:10000347-1922745600-1922831999@seic-ceiu.ca
SUMMARY:Journée nationale de commémoration et d’action contre la violence faite aux femmes
DESCRIPTION:
URL:https://seic-ceiu.ca/event/journee-nationale-de-commemoration-et-daction-contre-la-violence-faite-aux-femmes/2030-12-06/
CATEGORIES:Date significative
ATTACH;FMTTYPE=image/png:https://seic-ceiu.ca/wp-content/uploads/2025/12/women-1.png
END:VEVENT
END:VCALENDAR