BEGIN:VCALENDAR
VERSION:2.0
PRODID:-//Canada Employment and Immigration Union - ECPv6.15.20//NONSGML v1.0//EN
CALSCALE:GREGORIAN
METHOD:PUBLISH
X-WR-CALNAME:Canada Employment and Immigration Union
X-ORIGINAL-URL:https://seic-ceiu.ca
X-WR-CALDESC:Évènements pour Canada Employment and Immigration Union
REFRESH-INTERVAL;VALUE=DURATION:PT1H
X-Robots-Tag:noindex
X-PUBLISHED-TTL:PT1H
BEGIN:VTIMEZONE
TZID:America/Toronto
BEGIN:DAYLIGHT
TZOFFSETFROM:-0500
TZOFFSETTO:-0400
TZNAME:EDT
DTSTART:20250309T070000
END:DAYLIGHT
BEGIN:STANDARD
TZOFFSETFROM:-0400
TZOFFSETTO:-0500
TZNAME:EST
DTSTART:20251102T060000
END:STANDARD
BEGIN:DAYLIGHT
TZOFFSETFROM:-0500
TZOFFSETTO:-0400
TZNAME:EDT
DTSTART:20260308T070000
END:DAYLIGHT
BEGIN:STANDARD
TZOFFSETFROM:-0400
TZOFFSETTO:-0500
TZNAME:EST
DTSTART:20261101T060000
END:STANDARD
BEGIN:DAYLIGHT
TZOFFSETFROM:-0500
TZOFFSETTO:-0400
TZNAME:EDT
DTSTART:20270314T070000
END:DAYLIGHT
BEGIN:STANDARD
TZOFFSETFROM:-0400
TZOFFSETTO:-0500
TZNAME:EST
DTSTART:20271107T060000
END:STANDARD
BEGIN:DAYLIGHT
TZOFFSETFROM:-0500
TZOFFSETTO:-0400
TZNAME:EDT
DTSTART:20280312T070000
END:DAYLIGHT
BEGIN:STANDARD
TZOFFSETFROM:-0400
TZOFFSETTO:-0500
TZNAME:EST
DTSTART:20281105T060000
END:STANDARD
BEGIN:DAYLIGHT
TZOFFSETFROM:-0500
TZOFFSETTO:-0400
TZNAME:EDT
DTSTART:20290311T070000
END:DAYLIGHT
BEGIN:STANDARD
TZOFFSETFROM:-0400
TZOFFSETTO:-0500
TZNAME:EST
DTSTART:20291104T060000
END:STANDARD
BEGIN:DAYLIGHT
TZOFFSETFROM:-0500
TZOFFSETTO:-0400
TZNAME:EDT
DTSTART:20300310T070000
END:DAYLIGHT
BEGIN:STANDARD
TZOFFSETFROM:-0400
TZOFFSETTO:-0500
TZNAME:EST
DTSTART:20301103T060000
END:STANDARD
BEGIN:DAYLIGHT
TZOFFSETFROM:-0500
TZOFFSETTO:-0400
TZNAME:EDT
DTSTART:20310309T070000
END:DAYLIGHT
BEGIN:STANDARD
TZOFFSETFROM:-0400
TZOFFSETTO:-0500
TZNAME:EST
DTSTART:20311102T060000
END:STANDARD
END:VTIMEZONE
BEGIN:VEVENT
DTSTART;TZID=America/Toronto:20261125T000000
DTEND;TZID=America/Toronto:20261202T235959
DTSTAMP:20260421T103332
CREATED:20260305T232512Z
LAST-MODIFIED:20260305T232602Z
UID:10000333-1795564800-1796255999@seic-ceiu.ca
SUMMARY:16 jours d’activisme contre la violence fondée sur le sexe
DESCRIPTION:
URL:https://seic-ceiu.ca/event/16-jours-dactivisme-contre-la-violence-fondee-sur-le-sexe/2026-11-25/
CATEGORIES:Date significative
ATTACH;FMTTYPE=image/png:https://seic-ceiu.ca/wp-content/uploads/2025/12/women-1.png
END:VEVENT
BEGIN:VEVENT
DTSTART;TZID=America/Toronto:20271125T000000
DTEND;TZID=America/Toronto:20271202T235959
DTSTAMP:20260421T103332
CREATED:20260305T232512Z
LAST-MODIFIED:20260305T232602Z
UID:10000334-1827100800-1827791999@seic-ceiu.ca
SUMMARY:16 jours d’activisme contre la violence fondée sur le sexe
DESCRIPTION:
URL:https://seic-ceiu.ca/event/16-jours-dactivisme-contre-la-violence-fondee-sur-le-sexe/2027-11-25/
CATEGORIES:Date significative
ATTACH;FMTTYPE=image/png:https://seic-ceiu.ca/wp-content/uploads/2025/12/women-1.png
END:VEVENT
BEGIN:VEVENT
DTSTART;TZID=America/Toronto:20281125T000000
DTEND;TZID=America/Toronto:20281202T235959
DTSTAMP:20260421T103332
CREATED:20260305T232512Z
LAST-MODIFIED:20260305T232602Z
UID:10000335-1858723200-1859414399@seic-ceiu.ca
SUMMARY:16 jours d’activisme contre la violence fondée sur le sexe
DESCRIPTION:
URL:https://seic-ceiu.ca/event/16-jours-dactivisme-contre-la-violence-fondee-sur-le-sexe/2028-11-25/
CATEGORIES:Date significative
ATTACH;FMTTYPE=image/png:https://seic-ceiu.ca/wp-content/uploads/2025/12/women-1.png
END:VEVENT
BEGIN:VEVENT
DTSTART;TZID=America/Toronto:20291125T000000
DTEND;TZID=America/Toronto:20291202T235959
DTSTAMP:20260421T103332
CREATED:20260305T232512Z
LAST-MODIFIED:20260305T232602Z
UID:10000336-1890259200-1890950399@seic-ceiu.ca
SUMMARY:16 jours d’activisme contre la violence fondée sur le sexe
DESCRIPTION:
URL:https://seic-ceiu.ca/event/16-jours-dactivisme-contre-la-violence-fondee-sur-le-sexe/2029-11-25/
CATEGORIES:Date significative
ATTACH;FMTTYPE=image/png:https://seic-ceiu.ca/wp-content/uploads/2025/12/women-1.png
END:VEVENT
BEGIN:VEVENT
DTSTART;TZID=America/Toronto:20301125T000000
DTEND;TZID=America/Toronto:20301202T235959
DTSTAMP:20260421T103332
CREATED:20260305T232512Z
LAST-MODIFIED:20260305T232602Z
UID:10000337-1921795200-1922486399@seic-ceiu.ca
SUMMARY:16 jours d’activisme contre la violence fondée sur le sexe
DESCRIPTION:
URL:https://seic-ceiu.ca/event/16-jours-dactivisme-contre-la-violence-fondee-sur-le-sexe/2030-11-25/
CATEGORIES:Date significative
ATTACH;FMTTYPE=image/png:https://seic-ceiu.ca/wp-content/uploads/2025/12/women-1.png
END:VEVENT
END:VCALENDAR