BEGIN:VCALENDAR
VERSION:2.0
PRODID:-//Canada Employment and Immigration Union - ECPv6.15.20//NONSGML v1.0//EN
CALSCALE:GREGORIAN
METHOD:PUBLISH
X-WR-CALNAME:Canada Employment and Immigration Union
X-ORIGINAL-URL:https://seic-ceiu.ca
X-WR-CALDESC:Évènements pour Canada Employment and Immigration Union
REFRESH-INTERVAL;VALUE=DURATION:PT1H
X-Robots-Tag:noindex
X-PUBLISHED-TTL:PT1H
BEGIN:VTIMEZONE
TZID:America/Toronto
BEGIN:DAYLIGHT
TZOFFSETFROM:-0500
TZOFFSETTO:-0400
TZNAME:EDT
DTSTART:20250309T070000
END:DAYLIGHT
BEGIN:STANDARD
TZOFFSETFROM:-0400
TZOFFSETTO:-0500
TZNAME:EST
DTSTART:20251102T060000
END:STANDARD
BEGIN:DAYLIGHT
TZOFFSETFROM:-0500
TZOFFSETTO:-0400
TZNAME:EDT
DTSTART:20260308T070000
END:DAYLIGHT
BEGIN:STANDARD
TZOFFSETFROM:-0400
TZOFFSETTO:-0500
TZNAME:EST
DTSTART:20261101T060000
END:STANDARD
BEGIN:DAYLIGHT
TZOFFSETFROM:-0500
TZOFFSETTO:-0400
TZNAME:EDT
DTSTART:20270314T070000
END:DAYLIGHT
BEGIN:STANDARD
TZOFFSETFROM:-0400
TZOFFSETTO:-0500
TZNAME:EST
DTSTART:20271107T060000
END:STANDARD
BEGIN:DAYLIGHT
TZOFFSETFROM:-0500
TZOFFSETTO:-0400
TZNAME:EDT
DTSTART:20280312T070000
END:DAYLIGHT
BEGIN:STANDARD
TZOFFSETFROM:-0400
TZOFFSETTO:-0500
TZNAME:EST
DTSTART:20281105T060000
END:STANDARD
BEGIN:DAYLIGHT
TZOFFSETFROM:-0500
TZOFFSETTO:-0400
TZNAME:EDT
DTSTART:20290311T070000
END:DAYLIGHT
BEGIN:STANDARD
TZOFFSETFROM:-0400
TZOFFSETTO:-0500
TZNAME:EST
DTSTART:20291104T060000
END:STANDARD
BEGIN:DAYLIGHT
TZOFFSETFROM:-0500
TZOFFSETTO:-0400
TZNAME:EDT
DTSTART:20300310T070000
END:DAYLIGHT
BEGIN:STANDARD
TZOFFSETFROM:-0400
TZOFFSETTO:-0500
TZNAME:EST
DTSTART:20301103T060000
END:STANDARD
BEGIN:DAYLIGHT
TZOFFSETFROM:-0500
TZOFFSETTO:-0400
TZNAME:EDT
DTSTART:20310309T070000
END:DAYLIGHT
BEGIN:STANDARD
TZOFFSETFROM:-0400
TZOFFSETTO:-0500
TZNAME:EST
DTSTART:20311102T060000
END:STANDARD
END:VTIMEZONE
BEGIN:VEVENT
DTSTART;TZID=America/Toronto:20260501T000000
DTEND;TZID=America/Toronto:20260508T235959
DTSTAMP:20260421T140655
CREATED:20260305T225907Z
LAST-MODIFIED:20260305T230003Z
UID:10000233-1777593600-1778284799@seic-ceiu.ca
SUMMARY:Mois de la prévention de la violence sexuelle
DESCRIPTION:
URL:https://seic-ceiu.ca/event/mois-de-la-prevention-de-la-violence-sexuelle/2026-05-01/
CATEGORIES:Date significative
ATTACH;FMTTYPE=image/png:https://seic-ceiu.ca/wp-content/uploads/2025/12/women-1.png
END:VEVENT
BEGIN:VEVENT
DTSTART;TZID=America/Toronto:20270501T000000
DTEND;TZID=America/Toronto:20270508T235959
DTSTAMP:20260421T140655
CREATED:20260305T225907Z
LAST-MODIFIED:20260305T230003Z
UID:10000234-1809129600-1809820799@seic-ceiu.ca
SUMMARY:Mois de la prévention de la violence sexuelle
DESCRIPTION:
URL:https://seic-ceiu.ca/event/mois-de-la-prevention-de-la-violence-sexuelle/2027-05-01/
CATEGORIES:Date significative
ATTACH;FMTTYPE=image/png:https://seic-ceiu.ca/wp-content/uploads/2025/12/women-1.png
END:VEVENT
BEGIN:VEVENT
DTSTART;TZID=America/Toronto:20280501T000000
DTEND;TZID=America/Toronto:20280508T235959
DTSTAMP:20260421T140655
CREATED:20260305T225907Z
LAST-MODIFIED:20260305T230003Z
UID:10000235-1840752000-1841443199@seic-ceiu.ca
SUMMARY:Mois de la prévention de la violence sexuelle
DESCRIPTION:
URL:https://seic-ceiu.ca/event/mois-de-la-prevention-de-la-violence-sexuelle/2028-05-01/
CATEGORIES:Date significative
ATTACH;FMTTYPE=image/png:https://seic-ceiu.ca/wp-content/uploads/2025/12/women-1.png
END:VEVENT
BEGIN:VEVENT
DTSTART;TZID=America/Toronto:20290501T000000
DTEND;TZID=America/Toronto:20290508T235959
DTSTAMP:20260421T140655
CREATED:20260305T225907Z
LAST-MODIFIED:20260305T230003Z
UID:10000236-1872288000-1872979199@seic-ceiu.ca
SUMMARY:Mois de la prévention de la violence sexuelle
DESCRIPTION:
URL:https://seic-ceiu.ca/event/mois-de-la-prevention-de-la-violence-sexuelle/2029-05-01/
CATEGORIES:Date significative
ATTACH;FMTTYPE=image/png:https://seic-ceiu.ca/wp-content/uploads/2025/12/women-1.png
END:VEVENT
BEGIN:VEVENT
DTSTART;TZID=America/Toronto:20300501T000000
DTEND;TZID=America/Toronto:20300508T235959
DTSTAMP:20260421T140655
CREATED:20260305T225907Z
LAST-MODIFIED:20260305T230003Z
UID:10000237-1903824000-1904515199@seic-ceiu.ca
SUMMARY:Mois de la prévention de la violence sexuelle
DESCRIPTION:
URL:https://seic-ceiu.ca/event/mois-de-la-prevention-de-la-violence-sexuelle/2030-05-01/
CATEGORIES:Date significative
ATTACH;FMTTYPE=image/png:https://seic-ceiu.ca/wp-content/uploads/2025/12/women-1.png
END:VEVENT
END:VCALENDAR