BEGIN:VCALENDAR
VERSION:2.0
PRODID:-//Canada Employment and Immigration Union - ECPv6.15.20//NONSGML v1.0//EN
CALSCALE:GREGORIAN
METHOD:PUBLISH
X-WR-CALNAME:Canada Employment and Immigration Union
X-ORIGINAL-URL:https://seic-ceiu.ca
X-WR-CALDESC:Évènements pour Canada Employment and Immigration Union
REFRESH-INTERVAL;VALUE=DURATION:PT1H
X-Robots-Tag:noindex
X-PUBLISHED-TTL:PT1H
BEGIN:VTIMEZONE
TZID:America/Toronto
BEGIN:DAYLIGHT
TZOFFSETFROM:-0500
TZOFFSETTO:-0400
TZNAME:EDT
DTSTART:20250309T070000
END:DAYLIGHT
BEGIN:STANDARD
TZOFFSETFROM:-0400
TZOFFSETTO:-0500
TZNAME:EST
DTSTART:20251102T060000
END:STANDARD
BEGIN:DAYLIGHT
TZOFFSETFROM:-0500
TZOFFSETTO:-0400
TZNAME:EDT
DTSTART:20260308T070000
END:DAYLIGHT
BEGIN:STANDARD
TZOFFSETFROM:-0400
TZOFFSETTO:-0500
TZNAME:EST
DTSTART:20261101T060000
END:STANDARD
BEGIN:DAYLIGHT
TZOFFSETFROM:-0500
TZOFFSETTO:-0400
TZNAME:EDT
DTSTART:20270314T070000
END:DAYLIGHT
BEGIN:STANDARD
TZOFFSETFROM:-0400
TZOFFSETTO:-0500
TZNAME:EST
DTSTART:20271107T060000
END:STANDARD
END:VTIMEZONE
BEGIN:VEVENT
DTSTART;TZID=America/Toronto:20260526T000000
DTEND;TZID=America/Toronto:20260528T235959
DTSTAMP:20260422T081644
CREATED:20260303T143444Z
LAST-MODIFIED:20260303T143641Z
UID:10000193-1779753600-1780012799@seic-ceiu.ca
SUMMARY:Conférence des présidents et présidentes de Terre-Neuve-et-Labrador-Nouvelle-Écosse
DESCRIPTION:
URL:https://seic-ceiu.ca/event/conference-des-presidents-et-presidentes-de-terre-neuve-et-labrador-nouvelle-ecosse/
LOCATION:St. John’s\, Terre-Neuve\, St. John's\, Newfoundland\, Canada
CATEGORIES:Conférence
ATTACH;FMTTYPE=image/jpeg:https://seic-ceiu.ca/wp-content/uploads/2026/03/download.jpg
GEO:47.5556097;-52.7452511
END:VEVENT
END:VCALENDAR